BEGIN:VCALENDAR
VERSION:2.0
PRODID:-//eventon.com NONSGML v1.0//EN
CALSCALE:GREGORIAN
METHOD:PUBLISH
BEGIN:VEVENT
UID:69e8a92d99b5e
DTSTAMP:20260422T105541Z
DTSTART:20240412T203000Z
DTEND:20240412T235900Z
LOCATION:Theaterstadl\,  Gehrenberg 188677 Markdorf\,  88677 Markdorf Theaterstadl\,  Gehrenberg 188677 Markdorf\,  88677 Markdorf
SUMMARY:Markdorf
DESCRIPTION:Alles richtig gemahct Nachholkonzert vom 2.3.24\,  Tickets beha
 lten ihre Gültigkeit\nhttps://lalelu.de/events/markdorf/
URL:https://lalelu.de/events/markdorf/
END:VEVENT
END:VCALENDAR