BEGIN:VCALENDAR
VERSION:2.0
PRODID:-//eventon.com NONSGML v1.0//EN
CALSCALE:GREGORIAN
METHOD:PUBLISH
BEGIN:VEVENT
UID:69e830652ddb7
DTSTAMP:20260422T022021Z
DTSTART:20250326T200000Z
DTEND:20250326T235900Z
LOCATION:Bürgerhaus Dreieich-Sprendlingen\,  Fichtestr. 50\,  63303 Dreieich Bürgerhaus Dreieich-Sprendlingen\,  Fichtestr. 50\,  63303 Dreieich
SUMMARY:Dreieich
DESCRIPTION:Best of 30 Jahre\nhttps://lalelu.de/events/dreieich/
URL:https://lalelu.de/events/dreieich/
END:VEVENT
END:VCALENDAR