BEGIN:VCALENDAR
VERSION:2.0
PRODID:-//eventon.com NONSGML v1.0//EN
CALSCALE:GREGORIAN
METHOD:PUBLISH
BEGIN:VEVENT
UID:69e892b701c29
DTSTAMP:20260422T091951Z
DTSTART:20250514T200000Z
DTEND:20250514T235900Z
LOCATION:TextilWerk Bocholt Spinnerei (Drosselsaal) \,  Industriestr. 5 \,  46397 Bocholt TextilWerk Bocholt Spinnerei (Drosselsaal) \,  Industriestr. 5 \,  46397 Bocholt
SUMMARY:Bocholt
DESCRIPTION:Best of 30 Jahre Tel: 0 28 71 / 1 23 09\nhttps://lalelu.de/even
 ts/bocholt/
URL:https://lalelu.de/events/bocholt/
END:VEVENT
END:VCALENDAR