BEGIN:VCALENDAR
VERSION:2.0
PRODID:-//eventon.com NONSGML v1.0//EN
CALSCALE:GREGORIAN
METHOD:PUBLISH
BEGIN:VEVENT
UID:69e893f273f7b
DTSTAMP:20260422T092506Z
DTSTART:20250710T200000Z
DTEND:20250710T235900Z
LOCATION:Kurtheater\,  Am Kurtheater 4\,  26548 Norderney Kurtheater\,  Am Kurtheater 4\,  26548 Norderney
SUMMARY:Norderney
DESCRIPTION:Best of 30 Jahre\nhttps://lalelu.de/events/norderney/
URL:https://lalelu.de/events/norderney/
END:VEVENT
END:VCALENDAR