BEGIN:VCALENDAR
VERSION:2.0
PRODID:-//eventon.com NONSGML v1.0//EN
CALSCALE:GREGORIAN
METHOD:PUBLISH
BEGIN:VEVENT
UID:69e73a016a395
DTSTAMP:20260421T084905Z
DTSTART:20251212T200000Z
DTEND:20251212T235900Z
LOCATION:Bürgertreff Schöneck-Kilianstädten \,  Richard-Wagner-Straße 5\,  61137 Schöneck Bürgertreff Schöneck-Kilianstädten \,  Richard-Wagner-Straße 5\,  61137 Schöneck
SUMMARY:Schöneck
DESCRIPTION:Weihnachten mit LaLeLu\nhttps://lalelu.de/events/schoeneck-2/
URL:https://lalelu.de/events/schoeneck-2/
END:VEVENT
END:VCALENDAR