BEGIN:VCALENDAR
VERSION:2.0
PRODID:-//eventon.com NONSGML v1.0//EN
CALSCALE:GREGORIAN
METHOD:PUBLISH
BEGIN:VEVENT
UID:69e892aaccedb
DTSTAMP:20260422T091938Z
DTSTART:20250723T200000Z
DTEND:20250723T235900Z
LOCATION:Charlottenhof\,  Osterklanxbüll 4\,  25924 Klanxbüll Charlottenhof\,  Osterklanxbüll 4\,  25924 Klanxbüll
SUMMARY:Klanxbüll
DESCRIPTION:Best of 30 Jahre\nhttps://lalelu.de/events/klanxbuell-2/
URL:https://lalelu.de/events/klanxbuell-2/
END:VEVENT
END:VCALENDAR