BEGIN:VCALENDAR
VERSION:2.0
PRODID:-//eventon.com NONSGML v1.0//EN
CALSCALE:GREGORIAN
METHOD:PUBLISH
BEGIN:VEVENT
UID:69e892781b87b
DTSTAMP:20260422T091848Z
DTSTART:20260510T180000Z
DTEND:20260510T235900Z
LOCATION:Tif - Theater im Fischereihafen\,  Am Schaufenster 6\,  27572 Bremerhaven Tif - Theater im Fischereihafen\,  Am Schaufenster 6\,  27572 Bremerhaven
SUMMARY:Bremerhaven
DESCRIPTION:Best of 30 Jahre\nhttps://lalelu.de/events/bremerhaven-2/
URL:https://lalelu.de/events/bremerhaven-2/
END:VEVENT
END:VCALENDAR