BEGIN:VCALENDAR
VERSION:2.0
PRODID:-//eventon.com NONSGML v1.0//EN
CALSCALE:GREGORIAN
METHOD:PUBLISH
BEGIN:VEVENT
UID:69e8927828819
DTSTAMP:20260422T091848Z
DTSTART:20260418T200000Z
DTEND:20260418T235900Z
LOCATION:ODEON\,  Mörikestr. 18\,  73033 Göppingen ODEON\,  Mörikestr. 18\,  73033 Göppingen
SUMMARY:Göppingen
DESCRIPTION:Best of 30 Jahre\nhttps://lalelu.de/events/goeppingen-2/
URL:https://lalelu.de/events/goeppingen-2/
END:VEVENT
END:VCALENDAR