BEGIN:VCALENDAR
VERSION:2.0
PRODID:-//eventon.com NONSGML v1.0//EN
CALSCALE:GREGORIAN
METHOD:PUBLISH
BEGIN:VEVENT
UID:69ea04d6b925a
DTSTAMP:20260423T113902Z
DTSTART:20260412T190000Z
DTEND:20260412T235900Z
LOCATION:Reithalle\,  Moltkestraße 31\,  77654 Offenburg Moltkestraße 31\,  77654 Offenburg
SUMMARY:Offenburg
DESCRIPTION:Best of 30 Jahre\nhttps://lalelu.de/events/offenburg/
URL:https://lalelu.de/events/offenburg/
END:VEVENT
END:VCALENDAR