BEGIN:VCALENDAR
VERSION:2.0
PRODID:-//eventon.com NONSGML v1.0//EN
CALSCALE:GREGORIAN
METHOD:PUBLISH
BEGIN:VEVENT
UID:69e8922ab75bc
DTSTAMP:20260422T091730Z
DTSTART:20260526T200000Z
DTEND:20260526T235900Z
LOCATION:Die KÄS\,  Waldschmidtstraße 19\,  60316 Frankfurt am Main Waldschmidtstraße 19\,  60316 Frankfurt am Main
SUMMARY:Frankfurt am Main
DESCRIPTION:Best of 30 Jahre\nhttps://lalelu.de/events/frankfurt-am-main-5/
URL:https://lalelu.de/events/frankfurt-am-main-5/
END:VEVENT
END:VCALENDAR