BEGIN:VCALENDAR
VERSION:2.0
PRODID:-//eventon.com NONSGML v1.0//EN
CALSCALE:GREGORIAN
METHOD:PUBLISH
BEGIN:VEVENT
UID:69e8922b0fbc9
DTSTAMP:20260422T091731Z
DTSTART:20260607T190000Z
DTEND:20260607T235900Z
LOCATION:Der Schafstall\,  Am Büsenbach 35 \,  21256 Handeloh Der Schafstall\,  Am Büsenbach 35  \,  21256 Handeloh
SUMMARY:Handeloh
DESCRIPTION:Best of 30 Jahre\nhttps://lalelu.de/events/handeloh/
URL:https://lalelu.de/events/handeloh/
END:VEVENT
END:VCALENDAR