BEGIN:VCALENDAR
VERSION:2.0
PRODID:-//eventon.com NONSGML v1.0//EN
CALSCALE:GREGORIAN
METHOD:PUBLISH
BEGIN:VEVENT
UID:69e892af7c688
DTSTAMP:20260422T091943Z
DTSTART:20260429T200000Z
DTEND:20260429T235900Z
LOCATION:mon ami \,  Goetheplatz 11 \,  99423 Weimar mon ami \,  Goetheplatz 11 \,  99423 Weimar
SUMMARY:Weimar
DESCRIPTION:Best of 30 Jahre\nhttps://lalelu.de/events/weimar-2/
URL:https://lalelu.de/events/weimar-2/
END:VEVENT
END:VCALENDAR