BEGIN:VCALENDAR
VERSION:2.0
PRODID:-//eventon.com NONSGML v1.0//EN
CALSCALE:GREGORIAN
METHOD:PUBLISH
BEGIN:VEVENT
UID:69e8924f5c2b5
DTSTAMP:20260422T091807Z
DTSTART:20261128T203000Z
DTEND:20261128T235900Z
LOCATION:Spectaculum mundi\,  Graubündener Straße 100\,  81475 München Spectaculum mundi\,  Graubündener Straße 100\,  81475 München
SUMMARY:München
DESCRIPTION:Weihnachten mit LaLeLu\nhttps://lalelu.de/events/muenchen-5/
URL:https://lalelu.de/events/muenchen-5/
END:VEVENT
END:VCALENDAR