BEGIN:VCALENDAR
VERSION:2.0
PRODID:-//eventon.com NONSGML v1.0//EN
CALSCALE:GREGORIAN
METHOD:PUBLISH
BEGIN:VEVENT
UID:69e8932c02017
DTSTAMP:20260422T092148Z
DTSTART:20261021T200000Z
DTEND:20261021T235900Z
LOCATION:E-Werk\,  Eschholzstraße\,  79106 Freiburg E-Werk\,  Eschholzstraße\,  79106 Freiburg
SUMMARY:Freiburg
DESCRIPTION:Urlaub vom Hirn\nhttps://lalelu.de/events/freiburg/
URL:https://lalelu.de/events/freiburg/
END:VEVENT
END:VCALENDAR