BEGIN:VCALENDAR
VERSION:2.0
PRODID:-//eventon.com NONSGML v1.0//EN
CALSCALE:GREGORIAN
METHOD:PUBLISH
BEGIN:VEVENT
UID:69e7376a5f90d
DTSTAMP:20260421T083802Z
DTSTART:20261130T193000Z
DTEND:20261130T235900Z
LOCATION:Schmidts Tivoli\,  Spielbudenplatz 27-28\,  20359 Hamburg Schmidts Tivoli\,  Spielbudenplatz 27-28\,  20359 Hamburg
SUMMARY:Hamburg
DESCRIPTION:Weihnachten mit LaLeLu\nhttps://lalelu.de/events/hamburg-33/
URL:https://lalelu.de/events/hamburg-33/
END:VEVENT
END:VCALENDAR