BEGIN:VCALENDAR
VERSION:2.0
PRODID:-//eventon.com NONSGML v1.0//EN
CALSCALE:GREGORIAN
METHOD:PUBLISH
BEGIN:VEVENT
UID:69e893212313d
DTSTAMP:20260422T092137Z
DTSTART:20261121T200000Z
DTEND:20261121T235900Z
LOCATION:Nienburger Kulturwerk Mindener Landstraße 20\,  31582 Nienburg
SUMMARY:Nienburg
DESCRIPTION:Weihnachten mit LaLeLu\nhttps://lalelu.de/events/nienburg/
URL:https://lalelu.de/events/nienburg/
END:VEVENT
END:VCALENDAR