BEGIN:VCALENDAR
VERSION:2.0
PRODID:-//eventon.com NONSGML v1.0//EN
CALSCALE:GREGORIAN
METHOD:PUBLISH
BEGIN:VEVENT
UID:69e89610e51cb
DTSTAMP:20260422T093408Z
DTSTART:20260525T150000Z
DTEND:20260525T235900Z
LOCATION:Adolf Spieß Halle\,  Vogelsbergstraße 56\,  36341 Lauterbach Adolf Spieß Halle\,  Vogelsbergstraße 56\,  36341 Lauterbach
SUMMARY:Lauterbach
DESCRIPTION:Best of 30 Jahre\nhttps://lalelu.de/events/lauterbach/
URL:https://lalelu.de/events/lauterbach/
END:VEVENT
END:VCALENDAR