BEGIN:VCALENDAR
VERSION:2.0
PRODID:-//eventon.com NONSGML v1.0//EN
CALSCALE:GREGORIAN
METHOD:PUBLISH
BEGIN:VEVENT
UID:69e893652dbb7
DTSTAMP:20260422T092245Z
DTSTART:20260814T200000Z
DTEND:20260814T235900Z
LOCATION:Meerkabarett CCS \,  Friedrichstraße 44 \,  25980 Westerland/ Sylt Meerkabarett CCS \,   Friedrichstraße 44 \,  25980 Westerland/ Sylt
SUMMARY:Westerland/ Sylt
DESCRIPTION:Best of 30 Jahre\nhttps://lalelu.de/events/westerland-sylt/
URL:https://lalelu.de/events/westerland-sylt/
END:VEVENT
END:VCALENDAR