BEGIN:VCALENDAR
VERSION:2.0
PRODID:-//eventon.com NONSGML v1.0//EN
CALSCALE:GREGORIAN
METHOD:PUBLISH
BEGIN:VEVENT
UID:69e89424393dc
DTSTAMP:20260422T092556Z
DTSTART:20261009T200000Z
DTEND:20261009T235900Z
LOCATION:Alma Hoppes Lustspielhaus\,  Ludolfstr. 53\,  20249 Hamburg Alma Hoppes Lustspielhaus\,  Ludolfstr. 53\,  20249 Hamburg
SUMMARY:Hamburg
DESCRIPTION:Urlaub vom Hirn\nhttps://lalelu.de/events/hamburg-44/
URL:https://lalelu.de/events/hamburg-44/
END:VEVENT
END:VCALENDAR