BEGIN:VCALENDAR
VERSION:2.0
PRODID:-//eventon.com NONSGML v1.0//EN
CALSCALE:GREGORIAN
METHOD:PUBLISH
BEGIN:VEVENT
UID:69e893078035a
DTSTAMP:20260422T092111Z
DTSTART:20260711T201500Z
DTEND:20260711T235900Z
LOCATION:Abtei Rommersdorf\,  Stiftsstraße 2\,  56566 Neuwied Abtei Rommersdorf\,  Stiftsstraße 2\,  56566 Neuwied
SUMMARY:Neuwied
DESCRIPTION:unplugged\nhttps://lalelu.de/events/neuwied-2/
URL:https://lalelu.de/events/neuwied-2/
END:VEVENT
END:VCALENDAR