BEGIN:VCALENDAR
VERSION:2.0
PRODID:-//eventon.com NONSGML v1.0//EN
CALSCALE:GREGORIAN
METHOD:PUBLISH
BEGIN:VEVENT
UID:69e8930f95e5d
DTSTAMP:20260422T092119Z
DTSTART:20280205T200000Z
DTEND:20280205T235900Z
LOCATION:Sauerlandtheater\,  Feauxweg 9\,  59821 Arnsberg Feauxweg 9\,  59821 Arnsberg\,  Germany
SUMMARY:Arnsberg
DESCRIPTION:Urlaub vom Hirn\nhttps://lalelu.de/events/arnsberg-2/
URL:https://lalelu.de/events/arnsberg-2/
END:VEVENT
END:VCALENDAR