BEGIN:VCALENDAR
VERSION:2.0
PRODID:-//eventon.com NONSGML v1.0//EN
CALSCALE:GREGORIAN
METHOD:PUBLISH
BEGIN:VEVENT
UID:69e76ba450391
DTSTAMP:20260421T122052Z
DTSTART:20261221T200000Z
DTEND:20261221T235900Z
LOCATION:Alma Hoppes Lustspielhaus\,  Ludolfstr. 53\,  20249 Hamburg Alma Hoppes Lustspielhaus\,  Ludolfstr. 53\,  20249 Hamburg
SUMMARY:Hamburg
DESCRIPTION:Weihnachten mit LaLeLu\nhttps://lalelu.de/events/hamburg-47/
URL:https://lalelu.de/events/hamburg-47/
END:VEVENT
END:VCALENDAR