BEGIN:VCALENDAR
VERSION:2.0
PRODID:-//eventon.com NONSGML v1.0//EN
CALSCALE:GREGORIAN
METHOD:PUBLISH
BEGIN:VEVENT
UID:69e735225642f
DTSTAMP:20260421T082818Z
DTSTART:20260821T200000Z
DTEND:20260821T235900Z
LOCATION:Lutterbeker\,  Dorfstr. 11\,  24235 Lutterbek Lutterbeker\,  Dorfstr. 11\,  24235 Lutterbek
SUMMARY:Lutterbek
DESCRIPTION:Vorpremiere Urlaub vom Hirn\nhttps://lalelu.de/events/lutterbek
 -4/
URL:https://lalelu.de/events/lutterbek-4/
END:VEVENT
END:VCALENDAR