BEGIN:VCALENDAR
VERSION:2.0
PRODID:-//eventon.com NONSGML v1.0//EN
CALSCALE:GREGORIAN
METHOD:PUBLISH
BEGIN:VEVENT
UID:69e625a474da0
DTSTAMP:20260420T130956Z
DTSTART:20261205T200000Z
DTEND:20261205T235900Z
LOCATION:Stadthalle\,  Boker Straße 6\,  33129 Delbrück Stadthalle\,  Boker Straße 6\,  33129 Delbrück
SUMMARY:Delbrück
DESCRIPTION:Weihnachten mit LaLeLu\nhttps://lalelu.de/events/delbrueck/
URL:https://lalelu.de/events/delbrueck/
END:VEVENT
END:VCALENDAR